BEGIN:VCALENDAR
VERSION:2.0
PRODID:-//Tukios.com/
BEGIN:VEVENT
UID:7dc39b61-b084-4bb5-806d-d6bb82e67019@www.maramanbillings.com
DTSTAMP:20260422T231916Z
DTSTART:20260428T160000Z
DTEND:20260428T170000Z
SUMMARY:Funeral Service
DESCRIPTION:
URL:https://www.maramanbillings.com/obituaries/michael-malone
LOCATION:Maraman-Billings Funeral Home 605 Preston Highway  
	Shepherdsville KY 40165
GEO:38.0792223;-85.66756
END:VEVENT
END:VCALENDAR