BEGIN:VCALENDAR
VERSION:2.0
PRODID:-//Tukios.com/
BEGIN:VEVENT
UID:cb8bc969-2256-4d6c-991e-06bf89ac8d4d@www.maramanbillings.com
DTSTAMP:20260422T232346Z
DTSTART:20260428T130000Z
DTEND:20260428T140000Z
SUMMARY:Visitation
DESCRIPTION:
URL:https://www.maramanbillings.com/obituaries/michael-malone
LOCATION:Maraman-Billings Funeral Home 605 Preston Highway  
	Shepherdsville KY 40165
GEO:38.0792223;-85.66756
END:VEVENT
END:VCALENDAR