BEGIN:VCALENDAR
VERSION:2.0
PRODID:-//Tukios.com/
BEGIN:VEVENT
UID:ba3f98e9-c54a-45fb-b68f-d470bb37a214@www.maramanbillings.com
DTSTAMP:20260422T231625Z
DTSTART:20260427T180000Z
DTEND:20260427T230000Z
SUMMARY:Visitation
DESCRIPTION:
URL:https://www.maramanbillings.com/obituaries/michael-malone
LOCATION:Maraman-Billings Funeral Home 605 Preston Highway  
	Shepherdsville KY 40165
GEO:38.0792223;-85.66756
END:VEVENT
END:VCALENDAR